View In:
ArcGIS JavaScript
ArcGIS Online Map Viewer
ArcGIS Earth
Service Description: Covington_Aerial_2015
Name: Covington_Aerial_2015
Description:
Single Fused Map Cache: false
Extent:
XMin: 1313996.3653613925
YMin: 126002.11458597457
XMax: 1337996.3653613925
YMax: 147002.11458597457
Spatial Reference: 2926
(2926)
Initial Extent:
XMin: 1313996.3653613925
YMin: 126002.11458597457
XMax: 1337996.3653613925
YMax: 147002.11458597457
Spatial Reference: 2926
(2926)
Full Extent:
XMin: 1313996.3653613925
YMin: 126002.11458597457
XMax: 1337996.3653613925
YMax: 147002.11458597457
Spatial Reference: 2926
(2926)
Pixel Size X: 0.25
Pixel Size Y: 0.25
Band Count: 3
Pixel Type: U8
RasterFunction Infos: {"rasterFunctionInfos": [{
"help": "",
"name": "None",
"description": ""
}]}
Mensuration Capabilities: Basic
Inspection Capabilities:
Has Histograms: true
Has Colormap: false
Has Multi Dimensions : false
Rendering Rule:
Min Scale: 0
Max Scale: 0
Copyright Text:
Service Data Type: esriImageServiceDataTypeRGB
Min Values: 0, 0, 0
Max Values: 255, 255, 255
Mean Values: 96.093004714285996, 103.67550723251, 92.405437024926002
Standard Deviation Values: 47.041575685482002, 41.881382433326998, 36.296419767815998
Object ID Field:
Fields:
None
Default Mosaic Method: Center
Allowed Mosaic Methods:
SortField:
SortValue: N/A
Mosaic Operator: First
Default Compression Quality: 75
Default Resampling Method: Bilinear
Max Record Count: null
Max Image Height: 4100
Max Image Width: 15000
Max Download Image Count: null
Max Mosaic Image Count: null
Allow Raster Function: true
Allow Copy: true
Allow Analysis: true
Allow Compute TiePoints: false
Supports Statistics: false
Supports Advanced Queries: false
Use StandardizedQueries: false
Raster Type Infos:
Name: Raster Dataset
Description: Supports all ArcGIS Raster Datasets
Help:
Has Raster Attribute Table: false
Edit Fields Info: N/A
Ownership Based AccessControl For Rasters: N/A
Child Resources:
Info
Histograms
Statistics
Key Properties
Legend
Raster Function Infos
Supported Operations:
Export Image
Identify
Measure
Compute Histograms
Compute Statistics Histograms
Get Samples
Compute Class Statistics
Query Boundary
Compute Pixel Location
Compute Angles
Validate
Project