View In:
ArcGIS JavaScript
ArcGIS Online Map Viewer
ArcGIS Earth
Service Description: Covington_Aerial_2012
Name: Covington_Aerial_2012
Description:
Single Fused Map Cache: false
Extent:
XMin: 1313999.75
YMin: 125999.75
XMax: 1338000.25
YMax: 147000.25
Spatial Reference: PROJCS["NAD_1983_HARN_StatePlane_Washington_North_FIPS_4601",GEOGCS["GCS_North_American_1983_HARN",DATUM["D_North_American_1983_HARN",SPHEROID["GRS_1980",6378137.0,298.257222101]],PRIMEM["Greenwich",0.0],UNIT["Degree",0.0174532925199433]],PROJECTION["Lambert_Conformal_Conic"],PARAMETER["False_Easting",1640416.66666667],PARAMETER["False_Northing",0.0],PARAMETER["Central_Meridian",-120.833333333333],PARAMETER["Standard_Parallel_1",47.5],PARAMETER["Standard_Parallel_2",48.7333333333333],PARAMETER["Latitude_Of_Origin",47.0],UNIT["Foot_US",0.3048006096012192]]
Initial Extent:
XMin: 1313999.75
YMin: 125999.75
XMax: 1338000.25
YMax: 147000.25
Spatial Reference: PROJCS["NAD_1983_HARN_StatePlane_Washington_North_FIPS_4601",GEOGCS["GCS_North_American_1983_HARN",DATUM["D_North_American_1983_HARN",SPHEROID["GRS_1980",6378137.0,298.257222101]],PRIMEM["Greenwich",0.0],UNIT["Degree",0.0174532925199433]],PROJECTION["Lambert_Conformal_Conic"],PARAMETER["False_Easting",1640416.66666667],PARAMETER["False_Northing",0.0],PARAMETER["Central_Meridian",-120.833333333333],PARAMETER["Standard_Parallel_1",47.5],PARAMETER["Standard_Parallel_2",48.7333333333333],PARAMETER["Latitude_Of_Origin",47.0],UNIT["Foot_US",0.3048006096012192]]
Full Extent:
XMin: 1313999.75
YMin: 125999.75
XMax: 1338000.25
YMax: 147000.25
Spatial Reference: PROJCS["NAD_1983_HARN_StatePlane_Washington_North_FIPS_4601",GEOGCS["GCS_North_American_1983_HARN",DATUM["D_North_American_1983_HARN",SPHEROID["GRS_1980",6378137.0,298.257222101]],PRIMEM["Greenwich",0.0],UNIT["Degree",0.0174532925199433]],PROJECTION["Lambert_Conformal_Conic"],PARAMETER["False_Easting",1640416.66666667],PARAMETER["False_Northing",0.0],PARAMETER["Central_Meridian",-120.833333333333],PARAMETER["Standard_Parallel_1",47.5],PARAMETER["Standard_Parallel_2",48.7333333333333],PARAMETER["Latitude_Of_Origin",47.0],UNIT["Foot_US",0.3048006096012192]]
Pixel Size X: 0.25
Pixel Size Y: 0.25
Band Count: 3
Pixel Type: U8
RasterFunction Infos: {"rasterFunctionInfos": [{
"help": "",
"name": "None",
"description": ""
}]}
Mensuration Capabilities: Basic
Inspection Capabilities:
Has Histograms: true
Has Colormap: false
Has Multi Dimensions : false
Rendering Rule:
Min Scale: 0
Max Scale: 0
Copyright Text:
Service Data Type: esriImageServiceDataTypeRGB
Min Values: 0, 20, 11
Max Values: 255, 255, 255
Mean Values: 106.68674698795, 116.2867213535, 100.67854396308999
Standard Deviation Values: 37.414872033381997, 30.131374322727002, 28.484231097351
Object ID Field:
Fields:
None
Default Mosaic Method: Center
Allowed Mosaic Methods:
SortField:
SortValue: N/A
Mosaic Operator: First
Default Compression Quality: 75
Default Resampling Method: Bilinear
Max Record Count: null
Max Image Height: 4100
Max Image Width: 15000
Max Download Image Count: null
Max Mosaic Image Count: null
Allow Raster Function: true
Allow Copy: true
Allow Analysis: true
Allow Compute TiePoints: false
Supports Statistics: false
Supports Advanced Queries: false
Use StandardizedQueries: false
Raster Type Infos:
Name: Raster Dataset
Description: Supports all ArcGIS Raster Datasets
Help:
Has Raster Attribute Table: false
Edit Fields Info: N/A
Ownership Based AccessControl For Rasters: N/A
Child Resources:
Info
Histograms
Statistics
Key Properties
Legend
Raster Function Infos
Supported Operations:
Export Image
Identify
Measure
Compute Histograms
Compute Statistics Histograms
Get Samples
Compute Class Statistics
Query Boundary
Compute Pixel Location
Compute Angles
Validate
Project